BEGIN:VCALENDAR
VERSION:2.0
PRODID:-//Reisefotografie - ECPv6.15.20//NONSGML v1.0//EN
CALSCALE:GREGORIAN
METHOD:PUBLISH
X-WR-CALNAME:Reisefotografie
X-ORIGINAL-URL:https://reisefotografie.de
X-WR-CALDESC:Veranstaltungen für Reisefotografie
REFRESH-INTERVAL;VALUE=DURATION:PT1H
X-Robots-Tag:noindex
X-PUBLISHED-TTL:PT1H
BEGIN:VTIMEZONE
TZID:Europe/Helsinki
BEGIN:DAYLIGHT
TZOFFSETFROM:+0200
TZOFFSETTO:+0300
TZNAME:EEST
DTSTART:20240331T010000
END:DAYLIGHT
BEGIN:STANDARD
TZOFFSETFROM:+0300
TZOFFSETTO:+0200
TZNAME:EET
DTSTART:20241027T010000
END:STANDARD
BEGIN:DAYLIGHT
TZOFFSETFROM:+0200
TZOFFSETTO:+0300
TZNAME:EEST
DTSTART:20250330T010000
END:DAYLIGHT
BEGIN:STANDARD
TZOFFSETFROM:+0300
TZOFFSETTO:+0200
TZNAME:EET
DTSTART:20251026T010000
END:STANDARD
BEGIN:DAYLIGHT
TZOFFSETFROM:+0200
TZOFFSETTO:+0300
TZNAME:EEST
DTSTART:20260329T010000
END:DAYLIGHT
BEGIN:STANDARD
TZOFFSETFROM:+0300
TZOFFSETTO:+0200
TZNAME:EET
DTSTART:20261025T010000
END:STANDARD
END:VTIMEZONE
BEGIN:VTIMEZONE
TZID:UTC
BEGIN:STANDARD
TZOFFSETFROM:+0000
TZOFFSETTO:+0000
TZNAME:UTC
DTSTART:20240101T000000
END:STANDARD
END:VTIMEZONE
BEGIN:VEVENT
DTSTART;TZID=Europe/Helsinki:20250104T093000
DTEND;TZID=Europe/Helsinki:20250104T123000
DTSTAMP:20260420T144257
CREATED:20240916T160803Z
LAST-MODIFIED:20240916T160805Z
UID:10000569-1735983000-1735993800@reisefotografie.de
SUMMARY:Foto-Seminar: Perfekte Reisefotos
DESCRIPTION:Workflow & Tipps vom Profi\n\n\n\nWohl jede*r kennt das: Auf Reisen zu fotografieren macht viel Spaß! Leider werden die Ergebnisse aber oft den Gefühlen und dem Erlebten nicht gerecht. Wir sehen fantastische Reisefotos in Vorträgen und Magazinen – vielleicht sogar von den gleichen Destinationen und fragen uns\, warum unsere Bilder nicht so aussehen!? \n\n\n\nIn diesem Fotoseminar zeigt dir der erfahrene und preisgekrönte Reisefotograf Thorge Berger\, wie du bereits bei deiner Reiseplanung viel richtig machen kannst und was du vor Ort beachten solltest. Du lernst\, welches Equipment du wofür brauchst und was du bei deiner Komposition beachten solltest\, um eindrucksvolle Reisefotos mit nach Hause zu bringen. Dabei werden die unterschiedlichen Aspekte der Reisefotografie behandelt: Landschafts- und Architekturfotografie\, People und Street-Fotografie\, Wildlife- und Dokumentarfotografie. \n\n\n\nDie Reisefotos\, die du in den Magazinen und Vorträgen siehst\, sind nur im Ausnahmefall genauso aus der Kamera gekommen. Daher fotografieren die Profis oft schon mit dem Gedanken an die Entwicklung im Kopf. In diesem Fotoseminar zeigt dir Thorge Berger auch\, welche Einstellungen du in deiner Kamera verwenden solltest und wie du später das Maximum aus deinen Bildern herausholen kannst. \n\n\n\nIm Seminar werden unter anderem folgende Aspekte vermittelt: \n\n\n\n\nBessere Fotos bekommt man durch bessere Planung\n\n\n\nDie Equipment-Frage: Was brauche ich wofür?\n\n\n\nDer einfachste Weg zu besseren Bildern: Komposition\n\n\n\nWas gilt es vor Ort zu beachten?\n\n\n\nMenschen fotografieren\n\n\n\nStreet Photography\n\n\n\nLandschaft & Natur fotografieren\n\n\n\nArchitektur fotografieren\n\n\n\nTiere fotografieren (Wildlife Photography)\n\n\n\nArbeiten mit Guides\n\n\n\nNach der Reise: Organisieren\, Auswählen und Entwickeln\n\n\n\n\nIm Seminar werden die theoretischen Inhalte durch viele Bildbeispiele erläutert. Dabei zeigt Thorge Berger einige seiner besten Bilder aus über 35 Jahren als Reisefotograf. Er erläutert\, wie diese entstanden sind und was Sie davon lernen können. Es wird ausreichend Zeit für Ihre Fragen geben. In diesem vierstündigen Seminar bekommen Sie einen Einblick hinter die Kulissen professioneller Reisefotografie.
URL:https://reisefotografie.de/termin/foto-seminar-perfekte-reisefotos-4/
LOCATION:Bürgerhaus Eisenach\, Ernst-Thälmann-Straße 94\, Eisenach\, Thüringen\, 99817\, Germany
CATEGORIES:Seminar Reisefotografie,Termine,Workshops & Seminare
ATTACH;FMTTYPE=image/jpeg:https://reisefotografie.de/wp-content/uploads/2022/08/Reisefotografie-Buch-Cover-Web.jpeg
ORGANIZER;CN="Geonatur":MAILTO:info@geonatur.de
END:VEVENT
BEGIN:VEVENT
DTSTART;TZID=UTC:20250103T193000
DTEND;TZID=UTC:20250103T220000
DTSTAMP:20260420T144257
CREATED:20240916T160250Z
LAST-MODIFIED:20240916T160252Z
UID:10000568-1735932600-1735941600@reisefotografie.de
SUMMARY:LIVE-Reisereportage: IRAN
DESCRIPTION:Die beiden Freunde und Abenteuer-Fotografen Thorge Berger und Mehran Khadem-Awal sind schon viel zusammen in der Welt unterwegs gewesen. 2017 reisten sie jedoch das erste Mal als Fotografen gemeinsam in den Iran\, das Land\, in dem Mehran einen Großteil seiner Kindheit erlebte. Seitdem sind die beiden Freunde immer wieder in die unterschiedlichsten Ecken des Landes gereist. In dieser Multivision / Live-Reportage präsentieren sie ihre schönsten Bilder und bewegendsten Erlebnisse und nehmen Sie mit in ein faszinierendes Land voller Schönheit und Widersprüche.
URL:https://reisefotografie.de/termin/live-reisereportage-iran-45/
LOCATION:Bürgerhaus Eisenach\, Ernst-Thälmann-Straße 94\, Eisenach\, Thüringen\, 99817\, Germany
CATEGORIES:IRAN - Verborgene Schönheit,LIVE-Reportagen & Vorträge,Termine
ATTACH;FMTTYPE=image/png:https://reisefotografie.de/wp-content/uploads/2021/06/Multivision-IRAN.png
ORGANIZER;CN="Geonatur":MAILTO:info@geonatur.de
END:VEVENT
END:VCALENDAR