BEGIN:VCALENDAR
VERSION:2.0
PRODID:-//Reisefotografie - ECPv6.15.20//NONSGML v1.0//EN
CALSCALE:GREGORIAN
METHOD:PUBLISH
X-ORIGINAL-URL:https://reisefotografie.de
X-WR-CALDESC:Veranstaltungen für Reisefotografie
REFRESH-INTERVAL;VALUE=DURATION:PT1H
X-Robots-Tag:noindex
X-PUBLISHED-TTL:PT1H
BEGIN:VTIMEZONE
TZID:Europe/Helsinki
BEGIN:DAYLIGHT
TZOFFSETFROM:+0200
TZOFFSETTO:+0300
TZNAME:EEST
DTSTART:20220327T010000
END:DAYLIGHT
BEGIN:STANDARD
TZOFFSETFROM:+0300
TZOFFSETTO:+0200
TZNAME:EET
DTSTART:20221030T010000
END:STANDARD
BEGIN:DAYLIGHT
TZOFFSETFROM:+0200
TZOFFSETTO:+0300
TZNAME:EEST
DTSTART:20230326T010000
END:DAYLIGHT
BEGIN:STANDARD
TZOFFSETFROM:+0300
TZOFFSETTO:+0200
TZNAME:EET
DTSTART:20231029T010000
END:STANDARD
BEGIN:DAYLIGHT
TZOFFSETFROM:+0200
TZOFFSETTO:+0300
TZNAME:EEST
DTSTART:20240331T010000
END:DAYLIGHT
BEGIN:STANDARD
TZOFFSETFROM:+0300
TZOFFSETTO:+0200
TZNAME:EET
DTSTART:20241027T010000
END:STANDARD
END:VTIMEZONE
BEGIN:VEVENT
DTSTART;TZID=Europe/Helsinki:20230715T090000
DTEND;TZID=Europe/Helsinki:20230716T170000
DTSTAMP:20260420T201307
CREATED:20230405T171112Z
LAST-MODIFIED:20230408T155805Z
UID:10000475-1689411600-1689526800@reisefotografie.de
SUMMARY:MIT FOTOS GESCHICHTEN ERZÄHLEN
DESCRIPTION:DER INTENSIV-FOTOGRAFIE-WORKSHOP\n\n\n\nVON UND MIT LUTZ JÄKEL & THORGE BERGER\n\n\n\nNicht nur einfach gute Fotos machen. Sondern mit Fotos Geschichten erzählen! \n\n\n\nAuf zum nächsten Level: Mit Fotos Geschichten erzählen – das ist die hohe Kunst\, die die Teilnehmenden bei diesem Internsiv-Workshop erlernen. Die beiden Profifotografen Thorge Berger und Lutz Jäkel zeigen es dir: Wie funktionieren Fotoreportagen und Bildserien\, welche Bildsprache ist dafür wichtig\, welche „Regeln“ und Kriterien spielen dabei eine Rolle? Wie also wird aus Fotos erst eine Geschichte? Ganz gleich\, ob du für ein Buch oder einen Vortrag fotografieren oder von den eigenen Reisen erzählen möchtest. \n\n\n\nIn diesem exklusiven Workshop entwickeln die Teilnehmenden ein Bewusstsein für Bildserien sowie für die Dynamik von Reportagen\, außerdem erlernen sie die Hitergründe der Bildsprache. Ziel des Workshops ist es\, die Kursteilnehmer zu unterstützen\, ihre eigene Bildsprache zu entwickeln. Die beiden Dozenten setzen sich während dieser intensiven zwei Tage mit dem aktuellen fotografischen Stand jedes und jeder Einzelnen auseinander und besprechen individuelle Entwicklungsziele. Gegenseitiges und konstruktives Feedback in der Gruppe unterstützen den schnellen Lern-Prozess. Du beginnst in Bildserien zu denken und professioneller zu fotografieren. \n\n\n\nIn diesem INTENSIV-WORKSHOP fotografieren wir nicht nur\, sondern lernen mit Fotos Geschichten zu erzählen!  \n\n\n\nINFOS: \n\n\n\nAn wen richtet sich unser Intensiv-Workshop?– Ambitionierte Fotograf:innen\, die sich weiter entwickeln wollen– Fotobegeisterte mit guten Grundkenntnissen (mindestens Umgang mit eigener Kamera vertraut)– Absolvent:innen unserer Workshops „Masterclass“ und „Bootcamp – Teil I & II“– Absolvent:innen von Lutz Jäkels Workshops „Der geschärfte Blick“ u.a. \n\n\n\nTermine– 6. Juli 2023 – 1\,5 Stunden – ONLINE Kick-off (erstes Kennenlernen als Videokonferenz)– 15. & 16. Juli 2023 – 2 Tage PRÄSENZ-Workshop (in Berching)– Termin wird im Kurs vereinbart – 3 Stunden- ONLINE Follow Up (einige Wochen nach Präsenz-Workshop) \n\n\n\nDauer:2 Tage (Sa. + So.)\, von 9 bis 17 Uhr+ ca. 4\,5 Stunden optionale Treffen davor und danach \n\n\n\nTeilnehmerzahl:mind.6 bis max. 16 \n\n\n\nLocation:Diese Veranstaltung findet in unserem schönen CREATIVE STUDIO mitten im lieblichen Naturpark Altmühltal statt. Das kleine Städtchen Berching direkt am Main-Donau-Kanal mit seinem historischen Stadtbild inmitten satter Natur ist die ideale Location für diesen Intensiv-Workshop. Berching und der Nachbarort Beilngries verfügen über eine große Anzahl von günstigen und hochwertigen Unterkünften. \n\n\n\nSonstiges:Das Mitbringen der eigenen Fotokamera und ggf. von Wechselobjektiven ist empfehlenswert. Snacks und Getränke stehen zur Verfügung. Mittagsverpflegung bitte selbst mitbringen.
URL:https://reisefotografie.de/termin/mit-fotos-geschichten-erzaehlen/
LOCATION:Creative Studio\, Neumarkterstr. 1\, Berching\, Bayern\, 92334\, Deutschland
CATEGORIES:Termine,Workshop Reportagefotografie,Workshops & Seminare
ATTACH;FMTTYPE=image/jpeg:https://reisefotografie.de/wp-content/uploads/2020/07/DSC6965.jpg
ORGANIZER;CN="Erdanziehung":MAILTO:INFO@ERDANZIEHUNG.COM
END:VEVENT
END:VCALENDAR