BEGIN:VCALENDAR
VERSION:2.0
PRODID:-//Reisefotografie - ECPv6.15.20//NONSGML v1.0//EN
CALSCALE:GREGORIAN
METHOD:PUBLISH
X-ORIGINAL-URL:https://reisefotografie.de
X-WR-CALDESC:Veranstaltungen für Reisefotografie
REFRESH-INTERVAL;VALUE=DURATION:PT1H
X-Robots-Tag:noindex
X-PUBLISHED-TTL:PT1H
BEGIN:VTIMEZONE
TZID:UTC
BEGIN:STANDARD
TZOFFSETFROM:+0000
TZOFFSETTO:+0000
TZNAME:UTC
DTSTART:20190101T000000
END:STANDARD
END:VTIMEZONE
BEGIN:VEVENT
DTSTART;TZID=UTC:20201207T200000
DTEND;TZID=UTC:20201207T220000
DTSTAMP:20260420T132051
CREATED:20200708T073132Z
LAST-MODIFIED:20200708T073133Z
UID:10000318-1607371200-1607378400@reisefotografie.de
SUMMARY:Reisefotografie Masterclass - Modul 3
DESCRIPTION:Gemeinsam mit den Veranstaltern Erdanziehung und Traum & Abenteuer habe ich den Lehrgang  „Masterclass Reisefotografie“ entwickelt. Bei diesem Online-Lehrgang vermittle ich allen Teilnehmenden mein Know-how aus über 35 Jahren Erfahrung mit Reisefotografie. Wer mitmacht\, erwirbt nicht nur das Wissen\, wie man gute Fotos macht\, sondern wird auch deutlich sicherer\, unterwegs und auf Reisen selbst hochwertige Ergebnisse mit der Kamera einzufangen. \n\n\n\nWir richten uns mit der „Masterclass“ an ambitionierte Anfänger und fortgeschrittene Amateure\, sowie auch an Menschen\, die in ihrem beruflichen Alltag die Fotografie nutzen möchten.  \n\n\n\nDas Konzept bietet neben viel Know-how-Vermittlung auch Raum\, an der eigenen Bildsprache und dem eigenen Stil zu arbeiten\, wobei die Teilnehmenden durch individuelles Feedback in ihrer Entwicklung unterstützt werden. \n\n\n\nAm Ende erhält jeder Absolvent ein Teilnahme-Zertifikat unserer Akademie und hat das Rüstzeug mit der Kamera einzigartige Momente gekonnt einzufangen. \n\n\n\nModul 3 (von 8)\n\n\n\nKomposition\n\n\n\n– Warum sie so essentiell ist– Kompositions-Ideen und Anregungen– Der „Akzent-Ansatz“– Perspektive \n\n\n\nReisefotografie-Sujets fotografieren 1\n\n\n\n– Landschaft & Natur– Architektur– Street– Wildlife
URL:https://reisefotografie.de/termin/reisefotografie-masterclass-modul-3/
LOCATION:Online
CATEGORIES:Termine,Workshops & Seminare
ATTACH;FMTTYPE=image/jpeg:https://reisefotografie.de/wp-content/uploads/2020/07/Masterclass-Reisefotografie.jpg
ORGANIZER;CN="Erdanziehung":MAILTO:INFO@ERDANZIEHUNG.COM
END:VEVENT
BEGIN:VEVENT
DTSTART;TZID=UTC:20201214T200000
DTEND;TZID=UTC:20201214T220000
DTSTAMP:20260420T132051
CREATED:20200708T073649Z
LAST-MODIFIED:20200708T073650Z
UID:10000319-1607976000-1607983200@reisefotografie.de
SUMMARY:Reisefotografie Masterclass - Modul 4
DESCRIPTION:Gemeinsam mit den Veranstaltern Erdanziehung und Traum & Abenteuer habe ich den Lehrgang  „Masterclass Reisefotografie“ entwickelt. Bei diesem Online-Lehrgang vermittle ich allen Teilnehmenden mein Know-how aus über 35 Jahren Erfahrung mit Reisefotografie. Wer mitmacht\, erwirbt nicht nur das Wissen\, wie man gute Fotos macht\, sondern wird auch deutlich sicherer\, unterwegs und auf Reisen selbst hochwertige Ergebnisse mit der Kamera einzufangen. \n\n\n\nWir richten uns mit der „Masterclass“ an ambitionierte Anfänger und fortgeschrittene Amateure\, sowie auch an Menschen\, die in ihrem beruflichen Alltag die Fotografie nutzen möchten.  \n\n\n\nDas Konzept bietet neben viel Know-how-Vermittlung auch Raum\, an der eigenen Bildsprache und dem eigenen Stil zu arbeiten\, wobei die Teilnehmenden durch individuelles Feedback in ihrer Entwicklung unterstützt werden. \n\n\n\nAm Ende erhält jeder Absolvent ein Teilnahme-Zertifikat unserer Akademie und hat das Rüstzeug mit der Kamera einzigartige Momente gekonnt einzufangen. \n\n\n\nModul 4 (von 8)\n\n\n\nReisefotografie-Sujets fotografieren 2\n\n\n\n– Menschen– Details– Behind The Scenes \n\n\n\nWÄHREND DER REISE\n\n\n\n– Planung & Recherche vor Ort– Sicherheit & „Risiko-Minimierung“– Die richtige Haltung– Tagesplanung– Arbeiten mit Guides– Umgang  mit Unvorhergesehenem
URL:https://reisefotografie.de/termin/reisefotografie-masterclass-modul-4/
LOCATION:Online
CATEGORIES:Termine,Workshops & Seminare
ATTACH;FMTTYPE=image/jpeg:https://reisefotografie.de/wp-content/uploads/2020/07/Masterclass-Reisefotografie.jpg
ORGANIZER;CN="Erdanziehung":MAILTO:INFO@ERDANZIEHUNG.COM
END:VEVENT
END:VCALENDAR