BEGIN:VCALENDAR
VERSION:2.0
PRODID:-//Reisefotografie - ECPv6.15.20//NONSGML v1.0//EN
CALSCALE:GREGORIAN
METHOD:PUBLISH
X-ORIGINAL-URL:https://reisefotografie.de
X-WR-CALDESC:Veranstaltungen für Reisefotografie
REFRESH-INTERVAL;VALUE=DURATION:PT1H
X-Robots-Tag:noindex
X-PUBLISHED-TTL:PT1H
BEGIN:VTIMEZONE
TZID:UTC
BEGIN:STANDARD
TZOFFSETFROM:+0000
TZOFFSETTO:+0000
TZNAME:UTC
DTSTART:20190101T000000
END:STANDARD
END:VTIMEZONE
BEGIN:VEVENT
DTSTART;TZID=UTC:20200816T100000
DTEND;TZID=UTC:20200816T170000
DTSTAMP:20260420T184516
CREATED:20190712T192238Z
LAST-MODIFIED:20200410T085325Z
UID:10000297-1597572000-1597597200@reisefotografie.de
SUMMARY:Workshop: Reisefotos organisieren\, bearbeiten\, präsentieren
DESCRIPTION:Wer von einer Reise nach Hause kommt\, bringt meist (sehr) viele Bilder mit zurück\, die gerne direkt präsentiert werden wollen. In diesem Kurs wird vermittelt\, wie man in der Vielzahl der Bilder die „richtigen“ findet und so bearbeitet\, sodass sich auch andere dafür begeistern können. Der erfahrene Reisefotograf Thorge Berger zeigt\, wie sein Workflow aussieht\, wie er seine Bilder mit der Software Lightroom organisiert und wie er mit wenigen Handgriffen\, noch eine Menge aus ihnen herausholt. Außerdem wird besprochen\, was aus den Bildern vergangener Reisen gelernt werden und wie man seine Bilder einem Publikum auf beeindruckende Art präsentieren kann. \n\n\n\nINHALT DES WORKSHOPS:\n\n\n\nUmgang mit Katalogen\, Ordnern\, SammlungenWas nach einer Reise anstehtWas man beim nächsten Mal schon während der Reise erledigen kannAuswahlprozess & Bewertung – ein WorkflowWarum Schlagworte so wichtig sind und wie man es effektiv macht SMARTE Sammlungen und StapelBildentwicklung in Lightroom – das Maximum aus den Bildern heraus holenWann Lightroom nicht mehr reicht – Arbeiten mit PlugIns und/oder Photoshopbeeindruckende Bildpräsentationen\n\n\n\nIn diesem Kurs wird mit dem Programm Lightroom gearbeitet. Wenn Sie einen eigenen Laptop haben\, auf dem Lightroom (o.ä.) installiert ist\, bringen Sie diesen gerne mit. Falls Sie keinen haben\, steht in der Fotoschule eine limitierte Anzahl an Laptops zum Arbeiten zur Verfügung. Bitte bringen Sie zudem eigene Bilder (als Dateien) mit. Basiskenntnisse im Umgang mit dem Laptop sind erforderlich\, Vorkenntnisse in Lightrom dagegen nicht. \n\n\n\nTeilnehmerzahl: 6-12**bei Nichterreichen der Teilnehmerzahl kann der Kurs bis zu fünf Tagen vor dem Veranstaltungstermin abgesagt werden
URL:https://reisefotografie.de/termin/workshop-reisefotos-organisieren-bearbeiten-praesentieren-2/
LOCATION:Fotoschule Köln\, Im Mediapark 8a\, Köln\, NRW\, 50670\, Deutschland
CATEGORIES:Termine,Workshops & Seminare
ATTACH;FMTTYPE=image/jpeg:https://reisefotografie.de/wp-content/uploads/2019/07/Reisefotografie-Lightroom-Workshop.jpg
ORGANIZER;CN="Grenzgang Kulturveranstalter":MAILTO:post@grenzgang.de
END:VEVENT
END:VCALENDAR