BEGIN:VCALENDAR
VERSION:2.0
PRODID:-//Reisefotografie - ECPv6.15.20//NONSGML v1.0//EN
CALSCALE:GREGORIAN
METHOD:PUBLISH
X-ORIGINAL-URL:https://reisefotografie.de
X-WR-CALDESC:Veranstaltungen für Reisefotografie
REFRESH-INTERVAL;VALUE=DURATION:PT1H
X-Robots-Tag:noindex
X-PUBLISHED-TTL:PT1H
BEGIN:VTIMEZONE
TZID:UTC
BEGIN:STANDARD
TZOFFSETFROM:+0000
TZOFFSETTO:+0000
TZNAME:UTC
DTSTART:20190101T000000
END:STANDARD
END:VTIMEZONE
BEGIN:VTIMEZONE
TZID:UTC
BEGIN:STANDARD
TZOFFSETFROM:+0000
TZOFFSETTO:+0000
TZNAME:UTC
DTSTART:20190101T000000
END:STANDARD
END:VTIMEZONE
BEGIN:VEVENT
DTSTART;TZID=UTC:20200711T000000
DTEND;TZID=UTC:20200712T235959
DTSTAMP:20260420T201240
CREATED:20190802T052818Z
LAST-MODIFIED:20210121T134641Z
UID:10000301-1594425600-1594598399@reisefotografie.de
SUMMARY:Praxis-Workshop: Bootcamp 1 - Reisefotografie
DESCRIPTION:2-TAGES WORKSHOP\n\n\n\nBOOTCAMP 1 REISEFOTOGRAFIE\n\n\n\nLERNEN VOM PROFI\n\n\n\nVON UND MIT THORGE BERGER\n\n\n\nWow! Das werden zwei sehr intensive Tage mit viel Know-How und Praxis vom Profi . Dieser zweitägige Intensiv-Fotoworkshop richtet sich an alle\, die gerne reisen\, gute Fotos mit nach Hause bringen und ihr fotografisches Wissen schnell auf ein neues Level heben möchten. \n\n\n\nIn den Theorieblöcken lernen die Teilnehmer neben wichtigem Basiswissen zu Fotografi e und Kameratechnik\, wie man vor\, während und nach der Reise sehr viel richtig machen kann – und zwar sowohl bei der Reiseplanung selbst\, als auch bei der Planung der Reisefotografie: Was gilt es zu recherchieren und wo bekommt man Ideen und Informationen? Welches Equipment ist das Richtige? Was ist vor Ort unbedingt zubeachten\, was gilt es bei den Themen Komposition\, Gestaltung und Licht zu bedenken und wie entstehen eindrucksvolle Aufnahmen von Menschen\, Landschaften und Architektur? \n\n\n\nDer Berufsfotograf und Vortragsreferent Thorge Berger erklärt auch\, was mit den gemachten Bildern während der Reise und danach passieren sollte und gibt den Teilnehmern zu diesem Zweck eine Einführung in Speicherung und Bildbearbeitung mit Lightroom. \n\n\n\nUm die vermittelten Inhalte direkt in die Praxis umzusetzen\, gehen wir raus\, um gemeinsam zu fotografieren. Bei den anschließenden Bildbesprechungen erläutert Thorge Berger\, wie man noch mehr aus einem Motiv herausholen kann und dadurch zu besseren Bildern kommt. Neben praktischen Tipps & Tricks aus seiner langjährigen Erfahrung als Reisefotograf erhalten die Teilnehmer zudem ein umfangreiches Handout.  \n\n\n\nTeilnehmerzahl: mind.10 bis max. 16  \n\n\n\nDauer: 2 Tage (Sa. + So.)\, von 9.00-17.00 Uhr  \n\n\n\nLocation: Diese Veranstaltung findet in unserem schönen CREATIVE STUDIO mitten im lieblichen Naturpark Altmühltal statt. Das kleine Städtchen Berching direkt am Main-Donau-Kanal mit seinem historischen Stadtbild inmitten satter Natur ist die ideale Location für dieses Intensiv-Bootcamp und liegt im „Herzen“ des ERDANZIEHUNG-Landes. Berching und der Nachbarort Beilngries verfügen über eine große Anzahl von günstigen und hochwertigen Unterkünften.
URL:https://reisefotografie.de/termin/bootcamp-reisefotografie-1/
LOCATION:Creative Studio\, Neumarkterstr. 1\, Berching\, Bayern\, 92334\, Deutschland
CATEGORIES:Termine,Workshops & Seminare
ATTACH;FMTTYPE=image/jpeg:https://reisefotografie.de/wp-content/uploads/2019/08/Bootcamp-Reisefotografie.jpg
ORGANIZER;CN="Erdanziehung":MAILTO:INFO@ERDANZIEHUNG.COM
END:VEVENT
BEGIN:VEVENT
DTSTART;TZID=UTC:20200718T000000
DTEND;TZID=UTC:20200719T235959
DTSTAMP:20260420T201240
CREATED:20190716T154047Z
LAST-MODIFIED:20200525T051414Z
UID:10000300-1595030400-1595203199@reisefotografie.de
SUMMARY:Praxis-Workshop: Bootcamp 2 - Kreative Fotografie
DESCRIPTION:Dieser Termin wurde wegen der Auswirkungen der Corona-Krise auf den 18./19. Juni verschoben und ist limitiert auf max. 12 Teilnehmer*innen. Es gibt einen zweiten Termin am 25./26. Juli. \n\n\n\nUnter dem Motto „Get to the next level“ bieten wir diesen neuen Fotoworkshop an. Zwei Tage lang werden die Teilnehmer auf ein neues Level gehoben.Dieser Workshop richtet sich an allen\, die noch tiefer in die Fotografie eintauchen möchten. Wir befassen uns mit kreativen Techniken und Themen auf die unweigerlich jeder ambitionierte (Reise-)Fotograf trifft\, der die Grundlagen beherrscht und anspruchsvolle Motive einfangen möchte.Dozent Thorge Berger und die Teilnehmer setzen sich mit neuen fotografi schen Motiven und Möglichkeiten auseinander. Wie fotografiert man beispielsweise Mitzieher? Wann und wie macht es Sinn\, längere Belichtungszeiten zu benutzen? Wie erstellt man faszinierende Zeitrafferaufnahmen? Ebenso befassen wir uns mit Sternen- und Nachtfotografie. Wie können Blitze\, Sterne oder sogar die Milchstraße gekonnt abgelichtet werden? Ein weiterer Schwerpunkt dieses Workshops ist das Fotografieren mit Filtern. Welche Filter kann ich wann und wie richtig einsetzten\, um das Bild bewusst zu verbessern?Fotografieren bedeutet mit „Licht zeichnen“. Aus diesem Grund widmen wir uns auch nochmals dem Thema Licht. Wie beeinflusst vorhandenes (Available Light) oder künstliches Licht (Blitz\, Reflektor) mein Bild? Wie kann ich Licht nutzen um bessere Fotos zu machen?Dieses Wochenende hat es in sich. Theorie und Praxis werden auch in diesem Workshop kombiniert\, damit die Teilnehmer das Wissen direkt umsetzen können. Neben praktischen Tipps und Tricks erhalten die Teilnehmer zudem ein umfangreiches Handout. \n\n\n\n\n\nINFOS:\n\n\n\nTeilnehmerzahl: mind.10 bis max. 16 \n\n\n\nDauer: 2 Tage (Sa. + So.)\, von 9.00-17.00 Uhr
URL:https://reisefotografie.de/termin/workshop-bootcamp-2-kreative-fotografie/
LOCATION:Creative Studio\, Neumarkterstr. 1\, Berching\, Bayern\, 92334\, Deutschland
CATEGORIES:Termine,Workshops & Seminare
ATTACH;FMTTYPE=image/jpeg:https://reisefotografie.de/wp-content/uploads/2019/07/fotoreise-in-den-iran-arbeiter-in-henna-muehle.jpg
ORGANIZER;CN="Erdanziehung":MAILTO:INFO@ERDANZIEHUNG.COM
END:VEVENT
BEGIN:VEVENT
DTSTART;TZID=UTC:20200725T000000
DTEND;TZID=UTC:20200726T235959
DTSTAMP:20260420T201240
CREATED:20200525T050609Z
LAST-MODIFIED:20200525T050719Z
UID:10000314-1595635200-1595807999@reisefotografie.de
SUMMARY:Praxis-Workshop: Bootcamp 2 - Kreative Fotografie
DESCRIPTION:Dieser Termin wurde wegen der Auswirkungen der Corona-Krise auf den 25./26. Juni verschoben und ist limitiert auf max. 12 Teilnehmer*innen.  \n\n\n\nUnter dem Motto “Get to the next level” bieten wir diesen neuen Fotoworkshop an. Zwei Tage lang werden die Teilnehmer auf ein neues Level gehoben.Dieser Workshop richtet sich an allen\, die noch tiefer in die Fotografie eintauchen möchten. Wir befassen uns mit kreativen Techniken und Themen auf die unweigerlich jeder ambitionierte (Reise-)Fotograf trifft\, der die Grundlagen beherrscht und anspruchsvolle Motive einfangen möchte.Dozent Thorge Berger und die Teilnehmer setzen sich mit neuen fotografi schen Motiven und Möglichkeiten auseinander. Wie fotografiert man beispielsweise Mitzieher? Wann und wie macht es Sinn\, längere Belichtungszeiten zu benutzen? Wie erstellt man faszinierende Zeitrafferaufnahmen? Ebenso befassen wir uns mit Sternen- und Nachtfotografie. Wie können Blitze\, Sterne oder sogar die Milchstraße gekonnt abgelichtet werden? Ein weiterer Schwerpunkt dieses Workshops ist das Fotografieren mit Filtern. Welche Filter kann ich wann und wie richtig einsetzten\, um das Bild bewusst zu verbessern?Fotografieren bedeutet mit “Licht zeichnen”. Aus diesem Grund widmen wir uns auch nochmals dem Thema Licht. Wie beeinflusst vorhandenes (Available Light) oder künstliches Licht (Blitz\, Reflektor) mein Bild? Wie kann ich Licht nutzen um bessere Fotos zu machen?Dieses Wochenende hat es in sich. Theorie und Praxis werden auch in diesem Workshop kombiniert\, damit die Teilnehmer das Wissen direkt umsetzen können. Neben praktischen Tipps und Tricks erhalten die Teilnehmer zudem ein umfangreiches Handout.
URL:https://reisefotografie.de/termin/praxisworkshop-bootcamp-2-kreative-fotografie/
LOCATION:Creative Studio\, Neumarkterstr. 1\, Berching\, Bayern\, 92334\, Deutschland
CATEGORIES:Termine,Workshops & Seminare
ATTACH;FMTTYPE=image/jpeg:https://reisefotografie.de/wp-content/uploads/2019/07/fotoreise-in-den-iran-arbeiter-in-henna-muehle.jpg
ORGANIZER;CN="Erdanziehung":MAILTO:INFO@ERDANZIEHUNG.COM
END:VEVENT
END:VCALENDAR