BEGIN:VCALENDAR
VERSION:2.0
PRODID:-//Reisefotografie - ECPv6.15.20//NONSGML v1.0//EN
CALSCALE:GREGORIAN
METHOD:PUBLISH
X-ORIGINAL-URL:https://reisefotografie.de
X-WR-CALDESC:Veranstaltungen für Reisefotografie
REFRESH-INTERVAL;VALUE=DURATION:PT1H
X-Robots-Tag:noindex
X-PUBLISHED-TTL:PT1H
BEGIN:VTIMEZONE
TZID:UTC
BEGIN:STANDARD
TZOFFSETFROM:+0000
TZOFFSETTO:+0000
TZNAME:UTC
DTSTART:20210101T000000
END:STANDARD
END:VTIMEZONE
BEGIN:VEVENT
DTSTART;TZID=UTC:20220408T170000
DTEND;TZID=UTC:20220409T170000
DTSTAMP:20260420T201027
CREATED:20210920T115703Z
LAST-MODIFIED:20220212T091507Z
UID:10000362-1649437200-1649523600@reisefotografie.de
SUMMARY:Praxis-Workshop Reisefotografie
DESCRIPTION:Was kann ich bereits vor der Reise richtig machen\, damit eindrucksvolle Fotos gelingen – und was sollte ich vor Ort beachten? Als Reisefotograf verrät Thorge Berger praktische Tipps & Tricks – zum Beispiel\, was es zu den Themen Komposition und Gestaltung zu wissen gilt\, wie eindrucksvolle Aufnahmen von Menschen\, Architektur\, Landschaft und Wildlife entstehen und wie man nach der Reise noch mehr aus den Bildern herausholt. Nach einer theoretischen Einführung an Tag eins geht es am zweiten Tag auf fotografische „Entdeckungsreise“ durch Köln. Abschließend geht es zur Besprechung zurück in die Fotoschule.
URL:https://reisefotografie.de/termin/praxis-workshop-reisefotografie-in-koeln/
LOCATION:Fotoschule Köln\, Im Mediapark 8a\, Köln\, NRW\, 50670\, Deutschland
CATEGORIES:Termine,Workshops & Seminare
ATTACH;FMTTYPE=image/jpeg:https://reisefotografie.de/wp-content/uploads/2020/10/Reisefotografie-andere-Welt.jpg
ORGANIZER;CN="Grenzgang Kulturveranstalter":MAILTO:post@grenzgang.de
END:VEVENT
END:VCALENDAR