BEGIN:VCALENDAR
VERSION:2.0
PRODID:-//Reisefotografie - ECPv6.15.20//NONSGML v1.0//EN
CALSCALE:GREGORIAN
METHOD:PUBLISH
X-WR-CALNAME:Reisefotografie
X-ORIGINAL-URL:https://reisefotografie.de
X-WR-CALDESC:Veranstaltungen für Reisefotografie
REFRESH-INTERVAL;VALUE=DURATION:PT1H
X-Robots-Tag:noindex
X-PUBLISHED-TTL:PT1H
BEGIN:VTIMEZONE
TZID:UTC
BEGIN:STANDARD
TZOFFSETFROM:+0000
TZOFFSETTO:+0000
TZNAME:UTC
DTSTART:20200101T000000
END:STANDARD
END:VTIMEZONE
BEGIN:VEVENT
DTSTART;TZID=UTC:20211113T100000
DTEND;TZID=UTC:20211113T170000
DTSTAMP:20260422T130116
CREATED:20210617T071153Z
LAST-MODIFIED:20210617T071207Z
UID:10000355-1636797600-1636822800@reisefotografie.de
SUMMARY:REISEFOTOS - organisieren\, bearbeiten\, präsentieren - ONLINE-Workshop
DESCRIPTION:Da Reisen zurzeit starken Einschränkungen unterliegen\, wollen wir euch wenigstens ermöglichen\, die vorhandene Zeit zur Vorbereitung zukünftiger Abenteuer zu nutzen.  Informativ\, inspirierend und interaktiv – Thorge Berger hat „Reisefotos“ grundlegend überarbeitet und in ein online-kompatibles Format verwandelt.Wer von einer Reise nach Hause kommt\, bringt meist (sehr) viele Bilder mit zurück\, die gerne direkt präsentiert werden wollen. In diesem Kurs wird vermittelt\, wie man in der Vielzahl der Bilder die „richtigen“ findet und so bearbeitet\, sodass sich auch andere dafür begeistern können. Der erfahrene Reisefotograf Thorge Berger zeigt\, wie sein Workflow aussieht\, wie er seine Bilder mit der Software Lightroom organisiert und wie er mit wenigen Handgriffen\, noch eine Menge aus ihnen herausholt. Außerdem wird besprochen\, was aus den Bildern vergangener Reisen gelernt werden und wie man seine Bilder einem Publikum auf beeindruckende Art präsentieren kann.Der Online-Workshop wird über die Video-Plattform Zoom stattfinden. Ihr benötigt dafür jedoch keinen kostenpflichtigen Zoom-Account\, eine kostenlose Anmeldung reicht aus. Wahlweise könnt ihr die Zoom-Desktop-App (Windows oder Mac) installieren und darüber teilnehmen oder einfach über einen Browser (bevorzugt Google Chrome) teilnehmen. Für eine möglichst interaktive Teilnahme ist ein Computer mit Webcam\, Mikrofon und Lautsprecher (oder Headset) ratsam.INHALT DES WORKSHOPS:– Umgang mit Katalogen\, Ordnern\, Sammlungen– Was nach einer Reise ansteht– Was man beim nächsten Mal schon während der Reise erledigen kann– Auswahlprozess & Bewertung – ein Workflow– Warum Schlagworte so wichtig sind und wie man es effektiv macht – SMARTE Sammlungen und Stapel– Bildentwicklung in Lightroom – das Maximum aus den Bildern heraus holen– Wann LIghtroom nicht mehr reicht – Arbeiten mit PlugIns und/oder Photoshop– Beeindruckende Bildpräsentationen \n\n\n\nBasiskenntnisse im Umgang mit dem Laptop sind erforderlich\, Vorkenntnisse in Lightrom dagegen nicht.Teilnehmerzahl: 8-12**bei Nichterreichen der Teilnehmerzahl kann der Kurs bis zu fünf Tagen vor dem Veranstaltungstermin abgesagt werden
URL:https://reisefotografie.de/termin/reisefotos-organisieren-bearbeiten-praesentieren-online-workshop/
CATEGORIES:Termine,Workshops & Seminare
ATTACH;FMTTYPE=image/jpeg:https://reisefotografie.de/wp-content/uploads/2019/07/Reisefotografie-Lightroom-Workshop.jpg
ORGANIZER;CN="Grenzgang Kulturveranstalter":MAILTO:post@grenzgang.de
END:VEVENT
END:VCALENDAR